BEGIN:VCALENDAR
VERSION:2.0
PRODID:-//eventon.com NONSGML v1.0//EN
CALSCALE:GREGORIAN
METHOD:PUBLISH
BEGIN:VEVENT
UID:69e88d9f433e7
DTSTAMP:20260422T085807Z
DTSTART:20151115T203000Z
DTEND:20151115T010000Z
LOCATION:Sala de Tres
SUMMARY:Rendez Vouz
DESCRIPTION:Cía Los Estupendos Estúpidos. Primera sesión: 20:30h. Un esp
 ectáculo CloWn. De José Piris\,  con Alex Coelho y Myriam Ríos El amor 
 es como una naranja\,  sólo que a menudo vamos por la vida con media. E in
 tentar encontrar nuestra otra media naranja puede ser una gran odisea. Siem
 pre aspiraremos a buscar[..]\nhttps://contigotresteatro.com/events/rendez-v
 ouz/
URL:https://contigotresteatro.com/events/rendez-vouz/
END:VEVENT
END:VCALENDAR