BEGIN:VCALENDAR
VERSION:2.0
PRODID:-//eventon.com NONSGML v1.0//EN
CALSCALE:GREGORIAN
METHOD:PUBLISH
BEGIN:VEVENT
UID:69e87c4c861c6
DTSTAMP:20260422T074412Z
DTSTART:20171118T200000Z
DTEND:20171118T120000Z
LOCATION:
SUMMARY:CHEBÚ&CHELO
DESCRIPTION: Doble pase: 20:00h. y 22:00h. Aportación: 12€ Chebú estre
 na un nuevo formato dentro de su ciclo “Chebú&amp;Chelo\,  que ofrecerá
  un limitado conjunto de conciertos en salas muy especiales de la región. 
 Con la incorporación de Miguel San Emeterio al violonchelo\,  Yenia Popova
  (voz) y Nahúm Cobo (piano) regresan a sus[..]\nhttps://contigotresteatro.
 com/events/chebuchelo/
URL:https://contigotresteatro.com/events/chebuchelo/
END:VEVENT
END:VCALENDAR